BEGIN:VCALENDAR
VERSION:2.0
PRODID:-//United French Tennis Professional - ECPv6.15.20//NONSGML v1.0//EN
CALSCALE:GREGORIAN
METHOD:PUBLISH
X-ORIGINAL-URL:https://ufrtp.com
X-WR-CALDESC:Events for United French Tennis Professional
REFRESH-INTERVAL;VALUE=DURATION:PT1H
X-Robots-Tag:noindex
X-PUBLISHED-TTL:PT1H
BEGIN:VTIMEZONE
TZID:UTC
BEGIN:STANDARD
TZOFFSETFROM:+0000
TZOFFSETTO:+0000
TZNAME:UTC
DTSTART:20240101T000000
END:STANDARD
END:VTIMEZONE
BEGIN:VEVENT
DTSTART;VALUE=DATE:20250928
DTEND;VALUE=DATE:20250929
DTSTAMP:20260423T131321
CREATED:20210228T204658Z
LAST-MODIFIED:20250816T043727Z
UID:20442-1759017600-1759103999@ufrtp.com
SUMMARY:Pro Am ITF\, Incheon\, Korea
DESCRIPTION:
URL:https://ufrtp.com/event/serena-larsson-olivia-schneider-2/
LOCATION:Incheon\, Korea
END:VEVENT
BEGIN:VEVENT
DTSTART;VALUE=DATE:20250927
DTEND;VALUE=DATE:20250929
DTSTAMP:20260423T131321
CREATED:20210228T204352Z
LAST-MODIFIED:20250816T043640Z
UID:20440-1758931200-1759103999@ufrtp.com
SUMMARY:Tennis Clinic in Incheon\, Korea
DESCRIPTION:
URL:https://ufrtp.com/event/andreas-medvedev-antony-fonsteur/
LOCATION:Incheon\, Korea
END:VEVENT
BEGIN:VEVENT
DTSTART;VALUE=DATE:20250919
DTEND;VALUE=DATE:20250920
DTSTAMP:20260423T131321
CREATED:20210121T143002Z
LAST-MODIFIED:20250816T043551Z
UID:20443-1758240000-1758326399@ufrtp.com
SUMMARY:Incheon\, Korea Workshop
DESCRIPTION:
URL:https://ufrtp.com/event/marcus-crown-german-stiller/
LOCATION:Incheon\, Korea
END:VEVENT
END:VCALENDAR